{"text_format":"1","workbook":"xlsx","n_sheets":4,"sheets":["KOKONAISTILANNE","Tilastot 2020-25","Aputaulukko","Pelilappu"],"not_rendered":{"charts":6,"images":1,"macros":1,"external_links":1,"defined_names":2,"comments":0,"pivot_tables":0},"unopened":[],"bounds":{"document_bytes":16777216,"sheet_cells":100000,"rows_first":2000,"rows_last":500,"rows_between":2000,"halvings":0,"cell_chars":16384,"cell_head_chars":4096},"cells_cut":0,"cells_raw":0,"read":"whole","date_system":"1900"}

{"sheet":"KOKONAISTILANNE","index":0,"n_rows":56,"n_cols":55,"rows_kept":56,"cut":false,"hidden":false,"merged":[[8,34,8,35],[8,36,8,37],[8,38,8,39],[8,40,8,41],[8,24,8,25],[8,26,8,27],[8,28,8,29],[8,30,8,31],[33,6,33,7],[8,6,8,7],[8,8,8,9],[33,8,33,9],[8,10,8,11],[33,10,33,11],[33,12,33,13],[33,16,33,17],[8,12,8,13],[8,22,8,23],[33,22,33,23],[8,20,8,21],[33,20,33,21],[33,18,33,19],[8,14,8,15],[33,14,33,15],[8,18,8,19],[8,16,8,17],[33,36,33,37],[33,38,33,39],[33,40,33,41],[33,44,33,45],[8,50,8,51],[9,50,9,51],[10,50,10,51],[11,50,11,51],[12,50,12,51],[8,44,8,45],[13,50,13,51],[14,50,14,51],[15,50,15,51],[16,50,16,51],[17,50,17,51],[18,50,18,51],[33,24,33,25],[33,26,33,27],[33,28,33,29],[33,30,33,31],[33,34,33,35],[24,50,24,51],[26,50,26,51],[28,50,28,51],[19,50,19,51],[20,50,20,51],[21,50,21,51],[22,50,22,51],[23,50,23,51],[25,50,25,51],[27,50,27,51]]}
[]
[null,null,"                             ","               "]
[]
[]
[null,null,null,"                                                                 Kausikilpailut 2025 Impivaara, Turku "]
[null,null,null,null,null,null,null,null,null,null,null,null,null,null,null,null,null,null,null,null,null,null,null,null,null,null,null,null,null,null,null,null,null,null,null,null,null,null,null,null,null,null,null,null,null,null,null,null,null,null,"Nimi","pvm","Rata","Piikki/X"]
[]
[null,"NETTOTULOKSET JA PISTEET",null,null,null,null,null,null,null,null,null,null,null,null,null,null,null,null,null,null,null,null,null,null,null,null,null,null,null,null,null,null,null,null,null,null,null,null,null,null,null,null,null,null,null,null,null,null,null,null,"PIIKKIKISA"]
[null,"Sij.","Nimi","Seura","HCP alku","HCP nyt","2025-05-06",null,"2025-05-13",null,"2025-05-20",null,"2025-05-27",null,"2025-06-03",null,"2025-06-10",null,"2025-06-17",null,"2025-06-24",null,"2025-07-01",null,"2025-07-08",null,"2025-07-15",null,"2025-07-22",null,"2025-07-29",null,"2025-08-05",null,"2025-08-12",null,"2025-08-19",null,"2025-08-26",null,"2025-09-02",null,"2025-09-09",null,"16.9.",null,"kilp","sum",null,null,"Juuso Tasku",null,"6.5.",6,"X"]
[null,1,"Petri Lönngren","TuRGS",4,"+2",null,null,79,{"$f":"100-I10","v":21},72,{"$f":"100-K10","v":28},65,{"$f":"100-M10","v":35},75,{"$f":"100-O10","v":25},65,{"$f":"100-Q10","v":35},61,{"$f":"100-S10","v":39},89,{"$f":"100-U10","v":11},78,{"$f":"100-W10","v":22},77,{"$f":"100-Y10","v":23},65,{"$f":"100-AA10","v":35},62,{"$f":"100-AC10","v":38},78,{"$f":"100-AE10","v":22},77,{"$f":"100-AG10","v":23},79,{"$f":"100-AI10","v":21},67,{"$f":"100-AK10","v":33},73,{"$f":"100-AM10","v":27},64,{"$f":"100-AO10","v":36},69,{"$f":"100-AQ10","v":31},78,{"$f":"100-AS10","v":22},{"$f":"COUNT(G10:AT10)/2","v":19},{"$f":"Aputaulukko!AJ2","v":385},null,null,"Juuso Tasku",null,"13.5.",12,"X"]
[null,2,"Oliver Mäntylä","TuRGS",4,"+5",75,{"$f":"100-G11","v":25},71,29,75,25,64,36,67,33," ",null," ",null,71,{"$f":"100-U11","v":29},67,33,68,32,73,27,61,39,74,26,77,{"$f":"100-AG11","v":23},null,null,67,{"$f":"100-AK11","v":33},71,{"$f":"100-AM11","v":29},72,{"$f":"100-AO11","v":28},null,null,77,{"$f":"100-AS11","v":23},16,{"$f":"Aputaulukko!AJ3","v":374},null,null,"Juuso Tasku",null,"20.5.",9,"Piikki"]
[null,3,"Juuso Tasku","Manse",4,"+1",82,{"$f":"100-G12","v":18},65,35,74,26,89,11,65,35,86,{"$f":"100-Q12","v":14},75,{"$f":"100-S12","v":25},77,{"$f":"100-U12","v":23},74,26,73,27,64,36,65,35,75,25,76,{"$f":"100-AG12","v":24},null,null,null,null,70,{"$f":"100-AM12","v":30},72,{"$f":"100-AO12","v":28},70,{"$f":"100-AQ12","v":30},null,null,17,{"$f":"Aputaulukko!AJ4","v":358},null,null,"Miko Tuominen",null,"27.5.",8,"X"]
[null,4,"Miko Tuominen","Manse",4,0,null,null,73,27,77,23,70,30,72,28,69,{"$f":"100-Q13","v":31},63,{"$f":"100-S13","v":37},80,{"$f":"100-U13","v":20},70,30,80,20,73,27,68,32,76,24,null,null,73,{"$f":"100-AI13","v":27},80,{"$f":"100-AK13","v":20},61,{"$f":"100-AM13","v":39},null,null,null,null,75,{"$f":"100-AS13","v":25},16,{"$f":"Aputaulukko!AJ5","v":357},null,null,"Miko Tuominen",null,"3.6.",14,"X"]
[null,5,"Petri Tanninen","TuRGS",12,8,97,{"$f":"100-G14","v":3},73,27,87,13,70,30,59,41,67,{"$f":"100-Q14","v":33},74,{"$f":"100-S14","v":26},87,{"$f":"100-U14","v":13},82,18,93,7,78,22,68,32,71,29,72,{"$f":"100-AG14","v":28},83,{"$f":"100-AI14","v":17},68,{"$f":"100-AK14","v":32},72,{"$f":"100-AM14","v":28},72,{"$f":"100-AO14","v":28},82,{"$f":"100-AQ14","v":18},80,{"$f":"100-AS14","v":20},20,{"$f":"Aputaulukko!AJ6","v":356},null,null,"Petri Tanninen",null,"10.6.",15,"X"]
[null,6,"Pekka Mäntylä","TuRGS",4,1,80,{"$f":"100-G15","v":20},71,29,75,25,82,18,81,19,null,null,null,null,null,null,72,28,73,27,72,28,87,13,81,19,72,{"$f":"100-AG15","v":28},62,{"$f":"100-AI15","v":38},67,{"$f":"100-AK15","v":33},null,null,75,{"$f":"100-AO15","v":25},null,null,70,{"$f":"100-AS15","v":30},15,{"$f":"Aputaulukko!AJ7","v":330},null,null,"Juuso Tasku",null,"17.6.",17,"Piikki"]
[null,7,"Juhani Samuli","TuRGS",12,9,null,null,68,32,77,23,82,18,76,24,78,{"$f":"100-Q16","v":22},80,{"$f":"100-S16","v":20},81,{"$f":"100-U16","v":19},77,23,81,19,74,26,68,32,86,14,82,{"$f":"100-AG16","v":18},76,{"$f":"100-AI16","v":24},67,{"$f":"100-AK16","v":33},92,{"$f":"100-AM16","v":8},76,{"$f":"100-AO16","v":24},65,{"$f":"100-AQ16","v":35},69,{"$f":"100-AS16","v":31},19,{"$f":"Aputaulukko!AJ8","v":329},null,null,"Oliver Mäntylä",null,"24.6.",7,"Piikki"]
[null,8,"Patrik Eriksson","TuRGS",8,2,79,{"$f":"100-G17","v":21},75,25," ",null,74,26,82,18,67,{"$f":"100-Q17","v":33},76,{"$f":"100-S17","v":24},73,{"$f":"100-U17","v":27},78,22,72,28,75,25,77,23,73,27,72,{"$f":"100-AG17","v":28},65,{"$f":"100-AI17","v":35},79,{"$f":"100-AK17","v":21},84,{"$f":"100-AM17","v":16},75,{"$f":"100-AO17","v":25},76,{"$f":"100-AQ17","v":24},79,{"$f":"100-AS17","v":21},19,{"$f":"Aputaulukko!AJ9","v":327},null,null,"Patrik Eriksson",null,"1.7.",10,"X"]
[null,9,"Jari Haapanen","TuRGS",8,"10 *)",null,null,80,{"$f":"100-I18","v":20},90,{"$f":"100-K18","v":10},95,{"$f":"100-M18","v":5},74,{"$f":"100-O18","v":26},88,{"$f":"100-Q18","v":12},74,{"$f":"100-S18","v":26},94,{"$f":"100-U18","v":6},72,{"$f":"100-W18","v":28},74,{"$f":"100-Y18","v":26},83,{"$f":"100-AA18","v":17},78,{"$f":"100-AC18","v":22},null," ",70,{"$f":"100-AG18","v":30},69,{"$f":"100-AI18","v":31},82,{"$f":"100-AK18","v":18},null,null,78,{"$f":"100-AO18","v":22},62,{"$f":"100-AQ18","v":38},82,{"$f":"100-AS18","v":18},{"$f":"COUNT(G18:AT18)/2","v":17},{"$f":"Aputaulukko!AJ10","v":305},null,null,"Pekka Mäntylä",null,"8.7.",7,"X"]
[null,10,"Kari Linnanketo","TuRGS",8,7,null,null,92,8,null," ",95,5,90,10,80,{"$f":"100-Q19","v":20},81,{"$f":"100-S19","v":19},null,null,80,20,73,27,75,25,88,12,81,{"$f":"100-AE19","v":19},null,null,82,18,78,22,73,{"$f":"100-AM19","v":27},75,25,63,37,null,null,15,{"$f":"Aputaulukko!AJ11","v":271},null,null,"Petri Tanninen",null,"15.7.",16,"Piikki"]
[98,11,"Tiina Tång","TuRGS",12,11,null,null,84,16,99,{"$f":"100-K20","v":1},103,0,88,12,89,{"$f":"100-Q20","v":11},94,{"$f":"100-S20","v":6},92,{"$f":"100-U20","v":8},74,26,89,11,68,32,83,17,108,0,65,{"$f":"100-AG20","v":35},72,28,79,21,96,{"$f":"100-AM20","v":4},98,2,76,24,null,null,18,{"$f":"Aputaulukko!AJ12","v":241},null,null,"Oliver Mäntylä",null,"22.7.",6,"X"]
[null,12,"Aleksi Tång","TuRGS",12,12,null,null,94,6,87,{"$f":"100-K21","v":13},85,{"$f":"100-M21","v":15},77,23,null,null,null,null,null,null,87,13,null,null,79,21,null,null,89,{"$f":"100-AE21","v":11},82,{"$f":"100-AG21","v":18},null,null,83,17,86,{"$f":"100-AM21","v":14}," "," ",null,null,null,null,10,{"$f":"Aputaulukko!AJ13","v":151},null,null,"Patrik Eriksson",null,"29.7.",17,"X"]
[null,13,"Marianne Martiala","TuRGS",12,20,116,0,115,0,134,0,null,null,90,10,83,{"$f":"100-Q22","v":17},105,0,null,null,115,0,104,0,89,11,104,0,99,{"$f":"100-AE22","v":1},107,0,99,{"$f":"100-AI22","v":1},88,12,null,null,94,{"$f":"100-AO22","v":6},78,{"$f":"100-AQ22","v":22},77,{"$f":"100-AS22","v":23},17,{"$f":"Aputaulukko!AJ14","v":103},null,null,"Petri Tanninen",null,"5.8.",7,"Piikki"]
[null,14,"Marjo Tiainen","TuRGS",12,16,101,0,96,0,120,0,null,null,109,0,96,{"$f":"100-Q23","v":4},88,{"$f":"100-S23","v":12},null,null,110,0,93,{"$f":"100-Y23","v":7},null,null,null,null,91,{"$f":"100-AE23","v":9},99,{"$f":"100-AG23","v":1},126,0,114,0,96,{"$f":"100-AM23","v":4},86,{"$f":"100-AO23","v":14},null,null,null,null,14,{"$f":"Aputaulukko!AJ15","v":51},null,null,"Miko Tuominen",null,"12.8.",5,"X"]
[null,15,"Kari Kulmala","TuRGS",12,14,null,null,null,null,null,null,null,null,null,null,null,null,null,null,null,null,null,null,null,null,97,{"$f":"100-AA24","v":3},null,null,null,null,null,null,85,{"$f":"100-AI24","v":15}," ",null,101,0,81,{"$f":"100-AO24","v":19},null,null,97,{"$f":"100-AS24","v":3},5,{"$f":"Aputaulukko!AJ16","v":40},null,null,"Petri Tanninen",null,"19.8.",13,"X"]
[null,16,"Perttu Uotila","SuoRa",8,7,null,null,null,null,null,null,null,null,null,null,null,null,null,null,null,null,null,null,null,null,null,null,null,null,null,null,null,null,null,null,null,null,null,null,68,{"$f":"100-AO25","v":32},null,null,null,null,1,{"$f":"Aputaulukko!AJ17","v":32},null,null,"Patrik Eriksson",null,"26.8.",3,"X"]
[null,17,"Axel Ekman","Manse",8,8,null,null,null,null,null,null,null,null,null,null,null,null,null,null,null,null,null,null,null,null,null,null,null,null,83,{"$f":"100-AE26","v":17},null,null,null,null,null,null,null,null," "," ",null,null,null,null,1,{"$f":"Aputaulukko!AJ18","v":17},null,null,"Pekka Mäntylä",null,"2.9.",11,"X"]
[null,18,"Kenth Smeds","NMG",12,12,null,null,null,null,null,null,null,null,86,{"$f":"100-O27","v":14},null,null,null,null,null,null,null,null,null,null,null,null,null,null,null,null,null,null,null,null,null,null,null,null,null,null,null,null,null,null,1,{"$f":"Aputaulukko!AJ19","v":14},null,null,"Patrik Eriksson",null,"9.9.",6,"Piikki"]
[null,19,"Jori Pasanen","TuRGS",4,4,null,null,null,null,null,null,null,null,null,null,null,null,null,null,null,null,87,13,null,null,null,null,null,null,null,null,null,null,null,null,null,null,null,null,null,null,null,null,null,null,{"$f":"COUNT(G28:AT28)/2","v":1},0,null,null,"Petri Tanninen",null,"16.9",10,"Piikki"]
[null,20,"Koomikko","TuRGS",12,16,106,0,null,null,141,0,125,0,null,null,null,null,null,null,null,null," "," ",107,0,110,0,null,null,null,null,null,null,null,null,null,null,null,null,null,null,null,null,null,null,{"$f":"COUNT(G29:AT29)/2","v":5},0]
[null,21,"Tomi Aunio","TuRGS",8,8,null,null,114,0,null,null,null,null,null,null,null,null,null,null,null,null,null,null,null,null,null,null,null,null,null,null,null,null,null,null,null,null,null,null,null,null,null,null,null,null,1,0]
[null,22,"Ari Åman","TaRGS",8,8,null,null,null,null,"dnf",0,null,null,null,null,null,null,null,null,null,null,null,null,null,null,100,0,null,null,null,null,null,null,null,null,null,null,null,null,null,null,null,null,null,null,1.5,0]
[null,null,null,null,null,"*) 16.6.2025 H2->H3",null,null,null,null,null,null,null,null,null,null,null,null,null,null,null,null,null,null,null,null,null,null,null,null,null,null,null,null,null,null,null,null,null,null,null,null,null,null,null,null,null,"12.parasta kisaa huomioidaan!"]
[]
[null,"Sij.","Nimi","Seura","Luokka",null,"6.5.",null,"13.5.",null,"20.5.",null,"2025-05-27",null,"2025-06-03",null,"2025-06-10",null,"2025-06-17",null,"2025-06-24",null,"2025-07-01",null,"2025-07-08",null,"2025-07-15",null,"2025-07-22",null,"2025-07-29",null,"2025-08-05",null,"2025-08-12",null,"2025-08-19",null,"2025-08-26",null,"2025-09-02",null,"2025-09-09",null,"2025-09-16",null,"krs","ka.","min","max","haj"]
[null,1,"Oliver Mäntylä","TuRGS","H1",null,39,40,35,38,37,40,32,34,36,31,null,null,null,null,33,38,37,29,32,34,36,34,29,29,38,32,39,34,null,null,33,30,31,35,32,35," "," ",30,42,{"$f":"COUNT(G35:AT35)","v":32},{"$f":"AVERAGE(G35:AT35)","v":34.5},{"$f":"MIN(G35:AT35)","v":29},{"$f":"MAX(G35:AT35)","v":42},{"$f":"AX35-AW35","v":13}]
[null,2,"Petri Lönngren","TuRGS","H1",null,null,null,39,44,35,41,32,35,40,36,29,37,29,32,39,50,38,39,37,39,33,31,30,31,39,38,36,40,46,32,32,34,33,39,30,33,32,35,39,37,38,36.078947368421055,29,50,21]
[null,3,"Juuso Tasku","Manse","H1",null,41,45,34,35,35,41,46,44,33,33,47,39,41,34,37,40,40,34,40,33,32,32,31,33,45,29,40,35,null,null,null,null,32,37,33,38,35,34,null,null,34,{"$f":"AVERAGE(G37:AT37)","v":37},{"$f":"MIN(G37:AT37)","v":29},{"$f":"MAX(G37:AT37)","v":47},{"$f":"AX37-AW37","v":18}]
[null,4,"Miko Tuominen","Manse","H1",null,null,null,40,37,40,41,38,36,38,38,35,38,32,35,36,47,32,41,36,46,41,34,36,34,37,41,null,null,41,34,45,37,34,29," "," ",null,null,37,38,32,37.625,29,47,18]
[null,5,"Pekka Mäntylä","TuRGS","H1",null,41,43,37,38,40,39,38,48,40,45,null,null,null,null,null,null,41,35,41,36,42,34,45,46,40,45,39,37,29,37,31,38,null,null,40,37,null,null,32,40,30,39.133333333333333,29,48,19]
[null,6,"Patrik Eriksson","TuRGS","H2",null,41,46,45,37,null,null,38,43,45,44,36,38,45,37,41,38,43,40,38,39,36,43,35,46,40,37,40,35,32,36,46,35,46,40,34,43,33,45,36,45,38,39.921052631578945,32,46,14]
[null,7,"Perttu Outila","SuoRA","H2",null,null,null,null,null,null,null,null,null,null,null,null,null,null,null,null,null,null,null,null,null,null,null,null,null,null,null,null,null,null,null,null,null,null,null,42,38,null,null,null,null,2,40,38,42,4]
[null,8,"Petri Tanninen","TuRGS","H3",null,47,62,46,39,48,51,44,38,38,33,37,40,33,51,50,47,42,50,50,53,46,42,37,41,41,40,41,39,47,44,33,43,43,37,43,37,47,43,39,49,40,43.274999999999999,33,62,29]
[null,9,"Juhani Samuli","TuRGS","H3",null," "," ",40,40,45,43,43,50,46,41,47,42,40,51,42,50,41,47,44,48,41,44,42,37,57,40,51,42,45,42,43,35,56,47,47,40,40,36,37,43,38,43.815789473684212,35,57,22]
[null,10,"Kari Linnanketo","TuRGS","H2",null,null,null,49,51,null,null,56,47,54,44,39,49,44,45," "," ",40,48,36,45,41,42,50,46,45,44,null,null,41,49,45,41,40,41,39,44,38,33,null,null,30,44.2,33,56,23]
[null,11,"Jori Pasanen","TuRGS","H1",null,null,null,null,null,null,null,null,null,null,null,null,null,null,null,null,null,42,49,null,null,null,null,null,null,null,null,null,null,null,null,null,null,null,null,null,null,null,null,null,null,2,45.5,42,49,7]
[null,12,"Axel Ekman","Manse","H2",null,null,null,null,null,null,null,null,null,null,null,null,null,null,null,null,null,null,null,null,null,null,null,null,null,53,38,null,null,null,null,null,null,null,null,null,null,null,null,null,null,2,45.5,38,53,15]
[null,13,"Jari Haapanen","TuRGS","H2/H3",null,null,null,46,42,46,52,43,60,38,44,52,44,41,45,49,57,43,42,40,47,54,42,41,50,null,null,38,45,44,37,45,49,null,null,46,44,40,34,50,42,34,45.058823529411768,34,60,26]
[null,14,"Aleksi Tång","TuRGS","H3",null,null,null,49,57,50,49,53,44,44,45,null,null,null,null,null,null,48,51,null,null,51,40,null,null,46,55,51,43,null,null,52,43,40,58,null,null,null,null,null,null,20,48.45,40,58,18]
[null,15,"Kenth Smeds","NMG","H3",null,null,null,null,null,null,null,null,null,52,46,null,null,null,null,null,null,null,null,null,null,null,null,null,null,null,null,null,null,null,null,null,null,null,null,null,null,null,null,null,null,2,49,46,52,6]
[null,16,"Tiina Tång","TuRGS","H3",null,null,null,50,46,51,60,65,50,52,48,51,50,48,58,55,49,41,45,53,48,38,42,56,39,54,66,38,40,46,37,44,46,59,48,55,54,40,47,null,null,36,49.138888888888886,37,66,29]
[null,17,"Kari Kulmala","TuRGS","H2",null,null,null,null,null,null,null,null,null,null,null,null,null,null,null,null,null,null,null,null,null,59,50,null,null,null,null,null,null,51,46,null,null,62,51,52,42,null,null,53,57,10,52.3,42,62,20]
[null,18,"Ari Åman","TaRGS","H3",null,null,null,null,null,60," ",null,null,null,null,null,null,null,null,null,null,null,null,null,null,56,52,null,null,null,null,null,null,null,null,null,null,null,null,null,null,null,null,null,null,3,56,52,60,8]
[null,19,"Marjo Tiainen","TuRGS","H3",null,57,56,56,52,69,63,null,null,58,63,61,48,57,45," "," ",66,58,54,53,null,null,null,null,50,55,52,61,71,69,69,60,57,55,62,40,null,null,null,null,28,57.75,40,71,31]
[null,20,"Marianne Martiala","TuRGS","H3",null,65,63,71,57,72,76,null,null,58,46,50,47,62,57," "," ",69,61,40,80,56,49,56,64,60,56,69,55,64,53,55,51,null,null,68,62,51,45,53,44,34,58.382352941176471,40,80,40]
[null,21,"Tomi Aunio","TuRGS","H2",null,null,null,61,61,null,null,null,null,null,null,null,null,null,null,null,null,null,null,null,null,null,null,null,null,null,null,null,null,null,null,null,null,null,null,null,null,null,null,null,null,2,61,61,61,0]
[null,22,"Koomikko","TuRGS","H3",null,66,52,null,null,79,74,68,70,null,null,null,null,null,null,null,null,null," ",70,51,63,62,null,null,null,null,null,null,null,null,null,null,null,null,null,null,null,null,null,null,10,65.5,{"$f":"MIN(G56:AT56)","v":51},{"$f":"MAX(G56:AT56)","v":79},28]

{"sheet":"Tilastot 2020-25","index":1,"n_rows":61,"n_cols":10,"rows_kept":61,"cut":false,"hidden":false,"merged":[]}
["Average"]
["Nimi",2020,2021,2022,2023,2024,2025,"Average","Min","Max"]
["Pete",34.68,36.361111111111114,35.340000000000003,35.44,36.29,36.08,{"$f":"AVERAGE(B3:G3)","v":35.698518518518519},{"$f":"MIN(B3:G3)","v":34.68},{"$f":"MAX(B3:G3)","v":36.361111111111114}]
["Oliver",42,40.342105263157897,39.31,37.39,35.22,34.5,{"$f":"AVERAGE(B4:G4)","v":38.127017543859651},{"$f":"MIN(B4:G4)","v":34.5},{"$f":"MAX(B4:G4)","v":42}]
["Miko",null,null,null,null,39.44,37.630000000000003,{"$f":"AVERAGE(B5:G5)","v":38.534999999999997},{"$f":"MIN(B5:G5)","v":37.630000000000003},{"$f":"MAX(B5:G5)","v":39.44}]
["Juuso",null,null,null,null,40.94,37,{"$f":"AVERAGE(B6:G6)","v":38.97},{"$f":"MIN(B6:G6)","v":37},{"$f":"MAX(B6:G6)","v":40.94}]
["Pekka",45.65,41,43.56,38.53,36.72,39.130000000000003,{"$f":"AVERAGE(B7:G7)","v":40.765000000000001},{"$f":"MIN(B7:G7)","v":36.72},{"$f":"MAX(B7:G7)","v":45.65}]
["Patrik",42.17,45.2,43.54,42.42,41.55,39.92,{"$f":"AVERAGE(B8:G8)","v":42.466666666666669},{"$f":"MIN(B8:G8)","v":39.92},{"$f":"MAX(B8:G8)","v":45.2}]
["Jusa",42.36,39.75,43.79,43.63,44.08,43.82,{"$f":"AVERAGE(B9:G9)","v":42.905000000000001},{"$f":"MIN(B9:G9)","v":39.75},{"$f":"MAX(B9:G9)","v":44.08}]
["Jari",42.45,41.368421052631582,42.56,45.11,48.27,45.06,{"$f":"AVERAGE(B10:G10)","v":44.136403508771934},{"$f":"MIN(B10:G10)","v":41.368421052631582},{"$f":"MAX(B10:G10)","v":48.27}]
["Eetu",45.48,43.527777777777779,44.88,44.31,46,null,{"$f":"AVERAGE(B11:G11)","v":44.839555555555556},{"$f":"MIN(B11:G11)","v":43.527777777777779},{"$f":"MAX(B11:G11)","v":46}]
["Kätsä",45.5,45.958333333333336,45.38,45.11,44.44,44.2,{"$f":"AVERAGE(B12:G12)","v":45.098055555555554},{"$f":"MIN(B12:G12)","v":44.2},{"$f":"MAX(B12:G12)","v":45.958333333333336}]
["Aleksi",46.7,48.227272727272727,48.07,48.05,47.96,48.45,{"$f":"AVERAGE(B13:G13)","v":47.909545454545459},{"$f":"MIN(B13:G13)","v":46.7},{"$f":"MAX(B13:G13)","v":48.45}]
["Tiina",48.32,48.5,47.66,48.98,49.5,49.14,{"$f":"AVERAGE(B14:G14)","v":48.68333333333333},{"$f":"MIN(B14:G14)","v":47.66},{"$f":"MAX(B14:G14)","v":49.5}]
["Kude",49.97,46.764705882352942,50.24,46.06,50.68,null,{"$f":"AVERAGE(B15:G15)","v":48.742941176470588},{"$f":"MIN(B15:G15)","v":46.06},{"$f":"MAX(B15:G15)","v":50.68}]
["Petri T",null,53.81818181818182,52.31,51.47,45.35,43.28,{"$f":"AVERAGE(B16:G16)","v":49.245636363636365},{"$f":"MIN(B16:G16)","v":43.28},{"$f":"MAX(B16:G16)","v":53.81818181818182}]
["Tomi",46.18,41.285714285714285,51.25,51.75,null,61,{"$f":"AVERAGE(B17:G17)","v":50.293142857142854},{"$f":"MIN(B17:G17)","v":41.285714285714285},{"$f":"MAX(B17:G17)","v":61}]
["Marjo",null,58.045454545454547,53.89,55.14,56.11,57.75,{"$f":"AVERAGE(B18:G18)","v":56.187090909090912},{"$f":"MIN(B18:G18)","v":53.89},{"$f":"MAX(B18:G18)","v":58.045454545454547}]
["Marianne",null,56.5,57.77,58.53,56.79,58.38,{"$f":"AVERAGE(B19:G19)","v":57.594000000000008},{"$f":"MIN(B19:G19)","v":56.5},{"$f":"MAX(B19:G19)","v":58.53}]
[]
["Nimi",2020,2021,2022,2023,2024,2025,"Average","Min","Max"]
["Pete",350,356,358,372,369,385,{"$f":"AVERAGE(B22:G22)","v":365},{"$f":"MIN(B22:G22)","v":350},{"$f":"MAX(B22:G22)","v":385}]
["Oliver",328,353,304,348,381,374,348,304,381]
["Pekka",270,356,291,348,351,330,324.33333333333331,270,356]
["Jusa",330,340,264,259,297,329,303.16666666666669,259,340]
["Eetu",299,352,271,272,253," ",289.39999999999998,253,352]
["Jari",292,339,290,223,171,305,270,171,339]
["Kätsä",270,192,219,245,259,271,242.66666666666666,192,271]
["Tiina",223,251,245,225,228,241,235.5,223,251]
["Patrik",152,88,219,310,333,327,238.16666666666666,88,333]
["Kude",209,284,175,282,152," ",220.4,152,284]
["Aleksi",260,171,175,159,209,151,187.5,151,260]
["Petri T",2,67,171,224,313,356,188.83333333333334,2,356]
[]
["Nimi",2020,2021,2022,2023,2024,2025,"Average","Min","Max"]
["Pete",350,356,358,372,369,385,{"$f":"AVERAGE(B36:G36)","v":365},{"$f":"MIN(B36:G36)","v":350},{"$f":"MAX(B36:G36)","v":385}]
["Oliver",328,353,304,348,381,374,{"$f":"AVERAGE(B37:G37)","v":348},{"$f":"MIN(B37:G37)","v":304},{"$f":"MAX(B37:G37)","v":381}]
["Pekka",270,356,291,348,351,330,{"$f":"AVERAGE(B38:G38)","v":324.33333333333331},{"$f":"MIN(B38:G38)","v":270},{"$f":"MAX(B38:G38)","v":356}]
["Petri T",2,67,171,224,313,356,{"$f":"AVERAGE(B39:G39)","v":188.83333333333334},{"$f":"MIN(B39:G39)","v":2},{"$f":"MAX(B39:G39)","v":356}]
["Eetu",299,352,271,272,253,null,{"$f":"AVERAGE(B40:F40)","v":289.39999999999998},{"$f":"MIN(B40:F40)","v":253},{"$f":"MAX(B40:F40)","v":352}]
["Jusa",330,340,264,259,297,329,{"$f":"AVERAGE(B41:G41)","v":303.16666666666669},{"$f":"MIN(B41:G41)","v":259},{"$f":"MAX(B41:G41)","v":340}]
["Jari",292,339,290,223,171,305,{"$f":"AVERAGE(B42:G42)","v":270},{"$f":"MIN(B42:G42)","v":171},{"$f":"MAX(B42:G42)","v":339}]
["Patrik",152,88,219,310,333,327,{"$f":"AVERAGE(B43:G43)","v":238.16666666666666},{"$f":"MIN(B43:G43)","v":88},{"$f":"MAX(B43:G43)","v":333}]
["Kude",209,284,175,282,152,null,{"$f":"AVERAGE(B44:F44)","v":220.4},{"$f":"MIN(B44:F44)","v":152},{"$f":"MAX(B44:F44)","v":284}]
["Kätsä",270,192,219,245,259,271,{"$f":"AVERAGE(B45:G45)","v":242.66666666666666},{"$f":"MIN(B45:G45)","v":192},{"$f":"MAX(B45:G45)","v":271}]
["Aleksi",260,171,175,159,209,151,{"$f":"AVERAGE(B46:G46)","v":187.5},{"$f":"MIN(B46:G46)","v":151},{"$f":"MAX(B46:G46)","v":260}]
["Tiina",223,251,245,225,228,241,{"$f":"AVERAGE(B47:G47)","v":235.5},{"$f":"MIN(B47:G47)","v":223},{"$f":"MAX(B47:G47)","v":251}]
[]
["Nimi",2020,2021,2022,2023,2024,2025,"Average","Min","Max"]
["Pete",350,356,358,372,369,385,{"$f":"AVERAGE(B50:G50)","v":365},{"$f":"MIN(B50:G50)","v":350},{"$f":"MAX(B50:G50)","v":385}]
["Oliver",328,353,304,348,381,374,{"$f":"AVERAGE(B51:G51)","v":348},{"$f":"MIN(B51:G51)","v":304},{"$f":"MAX(B51:G51)","v":381}]
["Pekka",270,356,291,348,351,330,{"$f":"AVERAGE(B52:G52)","v":324.33333333333331},{"$f":"MIN(B52:G52)","v":270},{"$f":"MAX(B52:G52)","v":356}]
["Jusa",330,340,264,259,297,329,{"$f":"AVERAGE(B53:G53)","v":303.16666666666669},{"$f":"MIN(B53:G53)","v":259},{"$f":"MAX(B53:G53)","v":340}]
["Eetu",299,352,271,272,253,null,{"$f":"AVERAGE(B54:F54)","v":289.39999999999998},{"$f":"MIN(B54:F54)","v":253},{"$f":"MAX(B54:F54)","v":352}]
["Jari",292,339,290,223,171,305,{"$f":"AVERAGE(B55:G55)","v":270},{"$f":"MIN(B55:G55)","v":171},{"$f":"MAX(B55:G55)","v":339}]
["Kätsä",270,192,219,245,259,271,{"$f":"AVERAGE(B56:G56)","v":242.66666666666666},{"$f":"MIN(B56:G56)","v":192},{"$f":"MAX(B56:G56)","v":271}]
["Tiina",223,251,245,225,228,241,{"$f":"AVERAGE(B57:G57)","v":235.5},{"$f":"MIN(B57:G57)","v":223},{"$f":"MAX(B57:G57)","v":251}]
["Patrik",152,88,219,310,333,327,{"$f":"AVERAGE(B58:G58)","v":238.16666666666666},{"$f":"MIN(B58:G58)","v":88},{"$f":"MAX(B58:G58)","v":333}]
["Kude",209,284,175,282,152,null,220.4,152,284]
["Aleksi",260,171,175,159,209,151,{"$f":"AVERAGE(B60:G60)","v":187.5},{"$f":"MIN(B60:G60)","v":151},{"$f":"MAX(B60:G60)","v":260}]
["Petri T",2,67,171,224,313,356,{"$f":"AVERAGE(B61:G61)","v":188.83333333333334},{"$f":"MIN(B61:G61)","v":2},{"$f":"MAX(B61:G61)","v":356}]

{"sheet":"Aputaulukko","index":2,"n_rows":23,"n_cols":36,"rows_kept":23,"cut":false,"hidden":false,"merged":[]}
[null,null,"Check",{"$f":"KOKONAISTILANNE!G9","v":"2025-05-06"},{"$f":"KOKONAISTILANNE!I9","v":"2025-05-13"},{"$f":"KOKONAISTILANNE!K9","v":"2025-05-20"},{"$f":"KOKONAISTILANNE!M9","v":"2025-05-27"},{"$f":"KOKONAISTILANNE!O9","v":"2025-06-03"},{"$f":"KOKONAISTILANNE!Q9","v":"2025-06-10"},{"$f":"KOKONAISTILANNE!S9","v":"2025-06-17"},{"$f":"KOKONAISTILANNE!U9","v":"2025-06-24"},{"$f":"KOKONAISTILANNE!W9","v":"2025-07-01"},{"$f":"KOKONAISTILANNE!Y9","v":"2025-07-08"},{"$f":"KOKONAISTILANNE!AA9","v":"2025-07-15"},{"$f":"KOKONAISTILANNE!AC9","v":"2025-07-22"},{"$f":"KOKONAISTILANNE!AE9","v":"2025-07-29"},{"$f":"KOKONAISTILANNE!AG9","v":"2025-08-05"},{"$f":"KOKONAISTILANNE!AI9","v":"2025-08-12"},{"$f":"KOKONAISTILANNE!AK9","v":"2025-08-19"},{"$f":"KOKONAISTILANNE!AM9","v":"2025-08-26"},{"$f":"KOKONAISTILANNE!AO9","v":"2025-09-02"},{"$f":"KOKONAISTILANNE!AQ9","v":"2025-09-09"},{"$f":"KOKONAISTILANNE!AS9","v":"16.9."},1,2,3,4,5,6,7,8,9,10,11,12,"Pisteet"]
[1,"Petri Lönngren",{"$f":"KOKONAISTILANNE!C10","v":"Petri Lönngren"},null,{"$f":"KOKONAISTILANNE!J10","v":21},{"$f":"KOKONAISTILANNE!L10","v":28},{"$f":"KOKONAISTILANNE!N10","v":35},{"$f":"KOKONAISTILANNE!P10","v":25},{"$f":"KOKONAISTILANNE!R10","v":35},{"$f":"KOKONAISTILANNE!T10","v":39},{"$f":"KOKONAISTILANNE!V10","v":11},{"$f":"KOKONAISTILANNE!X10","v":22},{"$f":"KOKONAISTILANNE!Z10","v":23},{"$f":"KOKONAISTILANNE!AB10","v":35},{"$f":"KOKONAISTILANNE!AD10","v":38},{"$f":"KOKONAISTILANNE!AF10","v":22},{"$f":"KOKONAISTILANNE!AH10","v":23},{"$f":"KOKONAISTILANNE!AJ10","v":21},{"$f":"KOKONAISTILANNE!AL10","v":33},{"$f":"KOKONAISTILANNE!AN10","v":27},{"$f":"KOKONAISTILANNE!AP10","v":36},{"$f":"KOKONAISTILANNE!AR10","v":31},{"$f":"KOKONAISTILANNE!AT10","v":22},{"$f":"LARGE(D2:W2,1)","v":39},{"$f":"LARGE(D2:W2,2)","v":38},{"$f":"LARGE(D2:W2,3)","v":36},{"$f":"LARGE(D2:W2,4)","v":35},{"$f":"LARGE(D2:W2,5)","v":35},{"$f":"LARGE(D2:W2,6)","v":35},{"$f":"LARGE(D2:W2,7)","v":33},{"$f":"LARGE(D2:W2,8)","v":31},{"$f":"LARGE(D2:W2,9)","v":28},{"$f":"LARGE(D2:W2,10)","v":27},{"$f":"LARGE(D2:W2,11)","v":25},{"$f":"LARGE(D2:W2,12)","v":23},{"$f":"SUM(X2:AI2)","v":385}]
[2,"Oliver Mäntylä",{"$f":"KOKONAISTILANNE!C11","v":"Oliver Mäntylä"},{"$f":"KOKONAISTILANNE!H11","v":25},{"$f":"KOKONAISTILANNE!J11","v":29},{"$f":"KOKONAISTILANNE!L11","v":25},{"$f":"KOKONAISTILANNE!N11","v":36},{"$f":"KOKONAISTILANNE!P11","v":33},{"$f":"KOKONAISTILANNE!R11","v":0},{"$f":"KOKONAISTILANNE!T11","v":0},{"$f":"KOKONAISTILANNE!V11","v":29},{"$f":"KOKONAISTILANNE!X11","v":33},{"$f":"KOKONAISTILANNE!Z11","v":32},{"$f":"KOKONAISTILANNE!AB11","v":27},{"$f":"KOKONAISTILANNE!AD11","v":39},{"$f":"KOKONAISTILANNE!AF11","v":26},{"$f":"KOKONAISTILANNE!AH11","v":23},{"$f":"KOKONAISTILANNE!AJ11","v":0},{"$f":"KOKONAISTILANNE!AL11","v":33},{"$f":"KOKONAISTILANNE!AN11","v":29},{"$f":"KOKONAISTILANNE!AP11","v":28},{"$f":"KOKONAISTILANNE!AR11","v":0},{"$f":"KOKONAISTILANNE!AT11","v":23},{"$f":"LARGE(D3:W3,1)","v":39},{"$f":"LARGE(D3:W3,2)","v":36},{"$f":"LARGE(D3:W3,3)","v":33},{"$f":"LARGE(D3:W3,4)","v":33},{"$f":"LARGE(D3:W3,5)","v":33},{"$f":"LARGE(D3:W3,6)","v":32},{"$f":"LARGE(D3:W3,7)","v":29},{"$f":"LARGE(D3:W3,8)","v":29},{"$f":"LARGE(D3:W3,9)","v":29},{"$f":"LARGE(D3:W3,10)","v":28},{"$f":"LARGE(D3:W3,11)","v":27},{"$f":"LARGE(D3:W3,12)","v":26},{"$f":"SUM(X3:AI3)","v":374}]
[3,"Juuso Tasku",{"$f":"KOKONAISTILANNE!C12","v":"Juuso Tasku"},{"$f":"KOKONAISTILANNE!H12","v":18},{"$f":"KOKONAISTILANNE!J12","v":35},{"$f":"KOKONAISTILANNE!L12","v":26},{"$f":"KOKONAISTILANNE!N12","v":11},{"$f":"KOKONAISTILANNE!P12","v":35},{"$f":"KOKONAISTILANNE!R12","v":14},{"$f":"KOKONAISTILANNE!T12","v":25},{"$f":"KOKONAISTILANNE!V12","v":23},{"$f":"KOKONAISTILANNE!X12","v":26},{"$f":"KOKONAISTILANNE!Z12","v":27},{"$f":"KOKONAISTILANNE!AB12","v":36},{"$f":"KOKONAISTILANNE!AD12","v":35},{"$f":"KOKONAISTILANNE!AF12","v":25},{"$f":"KOKONAISTILANNE!AH12","v":24},{"$f":"KOKONAISTILANNE!AJ12","v":0},{"$f":"KOKONAISTILANNE!AL12","v":0},{"$f":"KOKONAISTILANNE!AN12","v":30},{"$f":"KOKONAISTILANNE!AP12","v":28},{"$f":"KOKONAISTILANNE!AR12","v":30},{"$f":"KOKONAISTILANNE!AT12","v":0},36,35,35,35,30,30,28,27,26,26,25,25,358]
[4,"Miko Tuominen",{"$f":"KOKONAISTILANNE!C13","v":"Miko Tuominen"},{"$f":"KOKONAISTILANNE!H13","v":0},{"$f":"KOKONAISTILANNE!J13","v":27},{"$f":"KOKONAISTILANNE!L13","v":23},{"$f":"KOKONAISTILANNE!N13","v":30},{"$f":"KOKONAISTILANNE!P13","v":28},{"$f":"KOKONAISTILANNE!R13","v":31},{"$f":"KOKONAISTILANNE!T13","v":37},{"$f":"KOKONAISTILANNE!V13","v":20},{"$f":"KOKONAISTILANNE!X13","v":30},{"$f":"KOKONAISTILANNE!Z13","v":20},{"$f":"KOKONAISTILANNE!AB13","v":27},{"$f":"KOKONAISTILANNE!AD13","v":32},{"$f":"KOKONAISTILANNE!AF13","v":24},{"$f":"KOKONAISTILANNE!AH13","v":0},{"$f":"KOKONAISTILANNE!AJ13","v":27},{"$f":"KOKONAISTILANNE!AL13","v":20},{"$f":"KOKONAISTILANNE!AN13","v":39},{"$f":"KOKONAISTILANNE!AP13","v":0},{"$f":"KOKONAISTILANNE!AR13","v":0},{"$f":"KOKONAISTILANNE!AT13","v":25},39,37,32,31,30,30,28,27,27,27,25,24,357]
[5,"Petri Tanninen",{"$f":"KOKONAISTILANNE!C14","v":"Petri Tanninen"},{"$f":"KOKONAISTILANNE!H14","v":3},{"$f":"KOKONAISTILANNE!J14","v":27},{"$f":"KOKONAISTILANNE!L14","v":13},{"$f":"KOKONAISTILANNE!N14","v":30},{"$f":"KOKONAISTILANNE!P14","v":41},{"$f":"KOKONAISTILANNE!R14","v":33},{"$f":"KOKONAISTILANNE!T14","v":26},{"$f":"KOKONAISTILANNE!V14","v":13},{"$f":"KOKONAISTILANNE!X14","v":18},{"$f":"KOKONAISTILANNE!Z14","v":7},{"$f":"KOKONAISTILANNE!AB14","v":22},{"$f":"KOKONAISTILANNE!AD14","v":32},{"$f":"KOKONAISTILANNE!AF14","v":29},{"$f":"KOKONAISTILANNE!AH14","v":28},{"$f":"KOKONAISTILANNE!AJ14","v":17},{"$f":"KOKONAISTILANNE!AL14","v":32},{"$f":"KOKONAISTILANNE!AN14","v":28},{"$f":"KOKONAISTILANNE!AP14","v":28},{"$f":"KOKONAISTILANNE!AR14","v":18},{"$f":"KOKONAISTILANNE!AT14","v":20},41,33,32,32,30,29,28,28,28,27,26,22,356]
[6,"Pekka Mäntylä",{"$f":"KOKONAISTILANNE!C15","v":"Pekka Mäntylä"},{"$f":"KOKONAISTILANNE!H15","v":20},{"$f":"KOKONAISTILANNE!J15","v":29},{"$f":"KOKONAISTILANNE!L15","v":25},{"$f":"KOKONAISTILANNE!N15","v":18},{"$f":"KOKONAISTILANNE!P15","v":19},{"$f":"KOKONAISTILANNE!R15","v":0},{"$f":"KOKONAISTILANNE!T15","v":0},{"$f":"KOKONAISTILANNE!V15","v":0},{"$f":"KOKONAISTILANNE!X15","v":28},{"$f":"KOKONAISTILANNE!Z15","v":27},{"$f":"KOKONAISTILANNE!AB15","v":28},{"$f":"KOKONAISTILANNE!AD15","v":13},{"$f":"KOKONAISTILANNE!AF15","v":19},{"$f":"KOKONAISTILANNE!AH15","v":28},{"$f":"KOKONAISTILANNE!AJ15","v":38},{"$f":"KOKONAISTILANNE!AL15","v":33},{"$f":"KOKONAISTILANNE!AN15","v":0},{"$f":"KOKONAISTILANNE!AP15","v":25},{"$f":"KOKONAISTILANNE!AR15","v":0},{"$f":"KOKONAISTILANNE!AT15","v":30},38,33,30,29,28,28,28,27,25,25,20,19,330]
[7,"Juhani Samuli",{"$f":"KOKONAISTILANNE!C16","v":"Juhani Samuli"},{"$f":"KOKONAISTILANNE!H16","v":0},{"$f":"KOKONAISTILANNE!J16","v":32},{"$f":"KOKONAISTILANNE!L16","v":23},{"$f":"KOKONAISTILANNE!N16","v":18},{"$f":"KOKONAISTILANNE!P16","v":24},{"$f":"KOKONAISTILANNE!R16","v":22},{"$f":"KOKONAISTILANNE!T16","v":20},{"$f":"KOKONAISTILANNE!V16","v":19},{"$f":"KOKONAISTILANNE!X16","v":23},{"$f":"KOKONAISTILANNE!Z16","v":19},{"$f":"KOKONAISTILANNE!AB16","v":26},{"$f":"KOKONAISTILANNE!AD16","v":32},{"$f":"KOKONAISTILANNE!AF16","v":14},{"$f":"KOKONAISTILANNE!AH16","v":18},{"$f":"KOKONAISTILANNE!AJ16","v":24},{"$f":"KOKONAISTILANNE!AL16","v":33},{"$f":"KOKONAISTILANNE!AN16","v":8},{"$f":"KOKONAISTILANNE!AP16","v":24},{"$f":"KOKONAISTILANNE!AR16","v":35},{"$f":"KOKONAISTILANNE!AT16","v":31},35,33,32,32,31,26,24,24,24,23,23,22,329]
[8,"Patrik Eriksson",{"$f":"KOKONAISTILANNE!C17","v":"Patrik Eriksson"},{"$f":"KOKONAISTILANNE!H17","v":21},{"$f":"KOKONAISTILANNE!J17","v":25},{"$f":"KOKONAISTILANNE!L17","v":0},{"$f":"KOKONAISTILANNE!N17","v":26},{"$f":"KOKONAISTILANNE!P17","v":18},{"$f":"KOKONAISTILANNE!R17","v":33},{"$f":"KOKONAISTILANNE!T17","v":24},{"$f":"KOKONAISTILANNE!V17","v":27},{"$f":"KOKONAISTILANNE!X17","v":22},{"$f":"KOKONAISTILANNE!Z17","v":28},{"$f":"KOKONAISTILANNE!AB17","v":25},{"$f":"KOKONAISTILANNE!AD17","v":23},{"$f":"KOKONAISTILANNE!AF17","v":27},{"$f":"KOKONAISTILANNE!AH17","v":28},{"$f":"KOKONAISTILANNE!AJ17","v":35},{"$f":"KOKONAISTILANNE!AL17","v":21},{"$f":"KOKONAISTILANNE!AN17","v":16},{"$f":"KOKONAISTILANNE!AP17","v":25},{"$f":"KOKONAISTILANNE!AR17","v":24},{"$f":"KOKONAISTILANNE!AT17","v":21},35,33,28,28,27,27,26,25,25,25,24,24,327]
[9,"Jari Haapanen",{"$f":"KOKONAISTILANNE!C18","v":"Jari Haapanen"},{"$f":"KOKONAISTILANNE!H18","v":0},{"$f":"KOKONAISTILANNE!J18","v":20},{"$f":"KOKONAISTILANNE!L18","v":10},{"$f":"KOKONAISTILANNE!N18","v":5},{"$f":"KOKONAISTILANNE!P18","v":26},{"$f":"KOKONAISTILANNE!R18","v":12},{"$f":"KOKONAISTILANNE!T18","v":26},{"$f":"KOKONAISTILANNE!V18","v":6},{"$f":"KOKONAISTILANNE!X18","v":28},{"$f":"KOKONAISTILANNE!Z18","v":26},{"$f":"KOKONAISTILANNE!AB18","v":17},{"$f":"KOKONAISTILANNE!AD18","v":22},{"$f":"KOKONAISTILANNE!AF18","v":" "},{"$f":"KOKONAISTILANNE!AH18","v":30},{"$f":"KOKONAISTILANNE!AJ18","v":31},{"$f":"KOKONAISTILANNE!AL18","v":18},{"$f":"KOKONAISTILANNE!AN18","v":0},{"$f":"KOKONAISTILANNE!AP18","v":22},{"$f":"KOKONAISTILANNE!AR18","v":38},{"$f":"KOKONAISTILANNE!AT18","v":18},38,31,30,28,26,26,26,22,22,20,18,18,305]
[10,"Kari Linnanketo",{"$f":"KOKONAISTILANNE!C19","v":"Kari Linnanketo"},{"$f":"KOKONAISTILANNE!H19","v":0},{"$f":"KOKONAISTILANNE!J19","v":8},{"$f":"KOKONAISTILANNE!L19","v":" "},{"$f":"KOKONAISTILANNE!N19","v":5},{"$f":"KOKONAISTILANNE!P19","v":10},{"$f":"KOKONAISTILANNE!R19","v":20},{"$f":"KOKONAISTILANNE!T19","v":19},{"$f":"KOKONAISTILANNE!V19","v":0},{"$f":"KOKONAISTILANNE!X19","v":20},{"$f":"KOKONAISTILANNE!Z19","v":27},{"$f":"KOKONAISTILANNE!AB19","v":25},{"$f":"KOKONAISTILANNE!AD19","v":12},{"$f":"KOKONAISTILANNE!AF19","v":19},{"$f":"KOKONAISTILANNE!AH19","v":0},{"$f":"KOKONAISTILANNE!AJ19","v":18},{"$f":"KOKONAISTILANNE!AL19","v":22},{"$f":"KOKONAISTILANNE!AN19","v":27},{"$f":"KOKONAISTILANNE!AP19","v":25},{"$f":"KOKONAISTILANNE!AR19","v":37},{"$f":"KOKONAISTILANNE!AT19","v":0},37,27,27,25,25,22,20,20,19,19,18,12,271]
[11,"Tiina Tång",{"$f":"KOKONAISTILANNE!C20","v":"Tiina Tång"},{"$f":"KOKONAISTILANNE!H20","v":0},{"$f":"KOKONAISTILANNE!J20","v":16},{"$f":"KOKONAISTILANNE!L20","v":1},{"$f":"KOKONAISTILANNE!N20","v":0},{"$f":"KOKONAISTILANNE!P20","v":12},{"$f":"KOKONAISTILANNE!R20","v":11},{"$f":"KOKONAISTILANNE!T20","v":6},{"$f":"KOKONAISTILANNE!V20","v":8},{"$f":"KOKONAISTILANNE!X20","v":26},{"$f":"KOKONAISTILANNE!Z20","v":11},{"$f":"KOKONAISTILANNE!AB20","v":32},{"$f":"KOKONAISTILANNE!AD20","v":17},{"$f":"KOKONAISTILANNE!AF20","v":0},{"$f":"KOKONAISTILANNE!AH20","v":35},{"$f":"KOKONAISTILANNE!AJ20","v":28},{"$f":"KOKONAISTILANNE!AL20","v":21},{"$f":"KOKONAISTILANNE!AN20","v":4},{"$f":"KOKONAISTILANNE!AP20","v":2},{"$f":"KOKONAISTILANNE!AR20","v":24},{"$f":"KOKONAISTILANNE!AT20","v":0},35,32,28,26,24,21,17,16,12,11,11,8,241]
[12,"Aleksi Tång",{"$f":"KOKONAISTILANNE!C21","v":"Aleksi Tång"},{"$f":"KOKONAISTILANNE!H21","v":0},{"$f":"KOKONAISTILANNE!J21","v":6},{"$f":"KOKONAISTILANNE!L21","v":13},{"$f":"KOKONAISTILANNE!N21","v":15},{"$f":"KOKONAISTILANNE!P21","v":23},{"$f":"KOKONAISTILANNE!R21","v":0},{"$f":"KOKONAISTILANNE!T21","v":0},{"$f":"KOKONAISTILANNE!V21","v":0},{"$f":"KOKONAISTILANNE!X21","v":13},{"$f":"KOKONAISTILANNE!Z21","v":0},{"$f":"KOKONAISTILANNE!AB21","v":21},{"$f":"KOKONAISTILANNE!AD21","v":0},{"$f":"KOKONAISTILANNE!AF21","v":11},{"$f":"KOKONAISTILANNE!AH21","v":18},{"$f":"KOKONAISTILANNE!AJ21","v":0},{"$f":"KOKONAISTILANNE!AL21","v":17},{"$f":"KOKONAISTILANNE!AN21","v":14},{"$f":"KOKONAISTILANNE!AP21","v":" "},{"$f":"KOKONAISTILANNE!AR21","v":0},{"$f":"KOKONAISTILANNE!AT21","v":0},23,21,18,17,15,14,13,13,11,6,0,0,151]
[13,"Marianne Martiala",{"$f":"KOKONAISTILANNE!C22","v":"Marianne Martiala"},{"$f":"KOKONAISTILANNE!H22","v":0},{"$f":"KOKONAISTILANNE!J22","v":0},{"$f":"KOKONAISTILANNE!L22","v":0},{"$f":"KOKONAISTILANNE!N22","v":0},{"$f":"KOKONAISTILANNE!P22","v":10},{"$f":"KOKONAISTILANNE!R22","v":17},{"$f":"KOKONAISTILANNE!T22","v":0},{"$f":"KOKONAISTILANNE!V22","v":0},{"$f":"KOKONAISTILANNE!X22","v":0},{"$f":"KOKONAISTILANNE!Z22","v":0},{"$f":"KOKONAISTILANNE!AB22","v":11},{"$f":"KOKONAISTILANNE!AD22","v":0},{"$f":"KOKONAISTILANNE!AF22","v":1},{"$f":"KOKONAISTILANNE!AH22","v":0},{"$f":"KOKONAISTILANNE!AJ22","v":1},{"$f":"KOKONAISTILANNE!AL22","v":12},{"$f":"KOKONAISTILANNE!AN22","v":0},{"$f":"KOKONAISTILANNE!AP22","v":6},{"$f":"KOKONAISTILANNE!AR22","v":22},{"$f":"KOKONAISTILANNE!AT22","v":23},23,22,17,12,11,10,6,1,1,0,0,0,103]
[14,"Marjo Tiainen",{"$f":"KOKONAISTILANNE!C23","v":"Marjo Tiainen"},{"$f":"KOKONAISTILANNE!H23","v":0},{"$f":"KOKONAISTILANNE!J23","v":0},{"$f":"KOKONAISTILANNE!L23","v":0},{"$f":"KOKONAISTILANNE!N23","v":0},{"$f":"KOKONAISTILANNE!P23","v":0},{"$f":"KOKONAISTILANNE!R23","v":4},{"$f":"KOKONAISTILANNE!T23","v":12},{"$f":"KOKONAISTILANNE!V23","v":0},{"$f":"KOKONAISTILANNE!X23","v":0},{"$f":"KOKONAISTILANNE!Z23","v":7},{"$f":"KOKONAISTILANNE!AB23","v":0},{"$f":"KOKONAISTILANNE!AD23","v":0},{"$f":"KOKONAISTILANNE!AF23","v":9},{"$f":"KOKONAISTILANNE!AH23","v":1},{"$f":"KOKONAISTILANNE!AJ23","v":0},{"$f":"KOKONAISTILANNE!AL23","v":0},{"$f":"KOKONAISTILANNE!AN23","v":4},{"$f":"KOKONAISTILANNE!AP23","v":14},{"$f":"KOKONAISTILANNE!AR23","v":0},{"$f":"KOKONAISTILANNE!AT23","v":0},14,12,9,7,4,4,1,0,0,0,0,0,51]
[15,"Kari Kulmala",{"$f":"KOKONAISTILANNE!C24","v":"Kari Kulmala"},{"$f":"KOKONAISTILANNE!H24","v":0},{"$f":"KOKONAISTILANNE!J24","v":0},{"$f":"KOKONAISTILANNE!L24","v":0},{"$f":"KOKONAISTILANNE!N24","v":0},{"$f":"KOKONAISTILANNE!P24","v":0},{"$f":"KOKONAISTILANNE!R24","v":0},{"$f":"KOKONAISTILANNE!T24","v":0},{"$f":"KOKONAISTILANNE!V24","v":0},{"$f":"KOKONAISTILANNE!X24","v":0},{"$f":"KOKONAISTILANNE!Z24","v":0},{"$f":"KOKONAISTILANNE!AB24","v":3},{"$f":"KOKONAISTILANNE!AD24","v":0},{"$f":"KOKONAISTILANNE!AF24","v":0},{"$f":"KOKONAISTILANNE!AH24","v":0},{"$f":"KOKONAISTILANNE!AJ24","v":15},{"$f":"KOKONAISTILANNE!AL24","v":0},{"$f":"KOKONAISTILANNE!AN24","v":0},{"$f":"KOKONAISTILANNE!AP24","v":19},{"$f":"KOKONAISTILANNE!AR24","v":0},{"$f":"KOKONAISTILANNE!AT24","v":3},19,15,3,3,0,0,0,0,0,0,0,0,40]
[16,"Perttu Uotila",{"$f":"KOKONAISTILANNE!C25","v":"Perttu Uotila"},{"$f":"KOKONAISTILANNE!H25","v":0},{"$f":"KOKONAISTILANNE!J25","v":0},{"$f":"KOKONAISTILANNE!L25","v":0},{"$f":"KOKONAISTILANNE!N25","v":0},{"$f":"KOKONAISTILANNE!P25","v":0},{"$f":"KOKONAISTILANNE!R25","v":0},{"$f":"KOKONAISTILANNE!T25","v":0},{"$f":"KOKONAISTILANNE!V25","v":0},{"$f":"KOKONAISTILANNE!X25","v":0},{"$f":"KOKONAISTILANNE!Z25","v":0},{"$f":"KOKONAISTILANNE!AB25","v":0},{"$f":"KOKONAISTILANNE!AD25","v":0},{"$f":"KOKONAISTILANNE!AF25","v":0},{"$f":"KOKONAISTILANNE!AH25","v":0},{"$f":"KOKONAISTILANNE!AJ25","v":0},{"$f":"KOKONAISTILANNE!AL25","v":0},{"$f":"KOKONAISTILANNE!AN25","v":0},{"$f":"KOKONAISTILANNE!AP25","v":32},{"$f":"KOKONAISTILANNE!AR25","v":0},{"$f":"KOKONAISTILANNE!AT25","v":0},32,0,0,0,0,0,0,0,0,0,0,0,32]
[17,"Axel Ekman",{"$f":"KOKONAISTILANNE!C26","v":"Axel Ekman"},{"$f":"KOKONAISTILANNE!H26","v":0},{"$f":"KOKONAISTILANNE!J26","v":0},{"$f":"KOKONAISTILANNE!L26","v":0},{"$f":"KOKONAISTILANNE!N26","v":0},{"$f":"KOKONAISTILANNE!P26","v":0},{"$f":"KOKONAISTILANNE!R26","v":0},{"$f":"KOKONAISTILANNE!T26","v":0},{"$f":"KOKONAISTILANNE!V26","v":0},{"$f":"KOKONAISTILANNE!X26","v":0},{"$f":"KOKONAISTILANNE!Z26","v":0},{"$f":"KOKONAISTILANNE!AB26","v":0},{"$f":"KOKONAISTILANNE!AD26","v":0},{"$f":"KOKONAISTILANNE!AF26","v":17},{"$f":"KOKONAISTILANNE!AH26","v":0},{"$f":"KOKONAISTILANNE!AJ26","v":0},{"$f":"KOKONAISTILANNE!AL26","v":0},{"$f":"KOKONAISTILANNE!AN26","v":0},{"$f":"KOKONAISTILANNE!AP26","v":" "},{"$f":"KOKONAISTILANNE!AR26","v":0},{"$f":"KOKONAISTILANNE!AT26","v":0},17,0,0,0,0,0,0,0,0,0,0,0,17]
[18,"Kenth Smeds",{"$f":"KOKONAISTILANNE!C27","v":"Kenth Smeds"},{"$f":"KOKONAISTILANNE!H27","v":0},{"$f":"KOKONAISTILANNE!J27","v":0},{"$f":"KOKONAISTILANNE!L27","v":0},{"$f":"KOKONAISTILANNE!N27","v":0},{"$f":"KOKONAISTILANNE!P27","v":14},{"$f":"KOKONAISTILANNE!R27","v":0},{"$f":"KOKONAISTILANNE!T27","v":0},{"$f":"KOKONAISTILANNE!V27","v":0},{"$f":"KOKONAISTILANNE!X27","v":0},{"$f":"KOKONAISTILANNE!Z27","v":0},{"$f":"KOKONAISTILANNE!AB27","v":0},{"$f":"KOKONAISTILANNE!AD27","v":0},{"$f":"KOKONAISTILANNE!AF27","v":0},{"$f":"KOKONAISTILANNE!AH27","v":0},{"$f":"KOKONAISTILANNE!AJ27","v":0},{"$f":"KOKONAISTILANNE!AL27","v":0},{"$f":"KOKONAISTILANNE!AN27","v":0},{"$f":"KOKONAISTILANNE!AP27","v":0},{"$f":"KOKONAISTILANNE!AR27","v":0},{"$f":"KOKONAISTILANNE!AT27","v":0},14,0,0,0,0,0,0,0,0,0,0,0,14]
[19,"Jori Pasanen",{"$f":"KOKONAISTILANNE!C28","v":"Jori Pasanen"},{"$f":"KOKONAISTILANNE!H28","v":0},{"$f":"KOKONAISTILANNE!J28","v":0},{"$f":"KOKONAISTILANNE!L28","v":0},{"$f":"KOKONAISTILANNE!N28","v":0},{"$f":"KOKONAISTILANNE!P28","v":0},{"$f":"KOKONAISTILANNE!R28","v":0},{"$f":"KOKONAISTILANNE!T28","v":0},{"$f":"KOKONAISTILANNE!V28","v":0},{"$f":"KOKONAISTILANNE!X28","v":13},{"$f":"KOKONAISTILANNE!Z28","v":0},{"$f":"KOKONAISTILANNE!AB28","v":0},{"$f":"KOKONAISTILANNE!AD28","v":0},{"$f":"KOKONAISTILANNE!AF28","v":0},{"$f":"KOKONAISTILANNE!AH28","v":0},{"$f":"KOKONAISTILANNE!AJ28","v":0},{"$f":"KOKONAISTILANNE!AL28","v":0},{"$f":"KOKONAISTILANNE!AN28","v":0},{"$f":"KOKONAISTILANNE!AP28","v":0},{"$f":"KOKONAISTILANNE!AR28","v":0},{"$f":"KOKONAISTILANNE!AT28","v":0},13,0,0,0,0,0,0,0,0,0,0,0,13]
[20,"Koomikko",{"$f":"KOKONAISTILANNE!C29","v":"Koomikko"},{"$f":"KOKONAISTILANNE!H29","v":0},{"$f":"KOKONAISTILANNE!J29","v":0},{"$f":"KOKONAISTILANNE!L29","v":0},{"$f":"KOKONAISTILANNE!N29","v":0},{"$f":"KOKONAISTILANNE!P29","v":0},{"$f":"KOKONAISTILANNE!R29","v":0},{"$f":"KOKONAISTILANNE!T29","v":0},{"$f":"KOKONAISTILANNE!V29","v":0},{"$f":"KOKONAISTILANNE!X29","v":" "},{"$f":"KOKONAISTILANNE!Z29","v":0},{"$f":"KOKONAISTILANNE!AB29","v":0},{"$f":"KOKONAISTILANNE!AD29","v":0},{"$f":"KOKONAISTILANNE!AF29","v":0},{"$f":"KOKONAISTILANNE!AH29","v":0},{"$f":"KOKONAISTILANNE!AJ29","v":0},{"$f":"KOKONAISTILANNE!AL29","v":0},{"$f":"KOKONAISTILANNE!AN29","v":0},{"$f":"KOKONAISTILANNE!AP29","v":0},{"$f":"KOKONAISTILANNE!AR29","v":0},{"$f":"KOKONAISTILANNE!AT29","v":0},0,0,0,0,0,0,0,0,0,0,0,0,0]
[21,"Tomi Aunio",{"$f":"KOKONAISTILANNE!C30","v":"Tomi Aunio"},{"$f":"KOKONAISTILANNE!H30","v":0},{"$f":"KOKONAISTILANNE!J30","v":0},{"$f":"KOKONAISTILANNE!L30","v":0},{"$f":"KOKONAISTILANNE!N30","v":0},{"$f":"KOKONAISTILANNE!P30","v":0},{"$f":"KOKONAISTILANNE!R30","v":0},{"$f":"KOKONAISTILANNE!T30","v":0},{"$f":"KOKONAISTILANNE!V30","v":0},{"$f":"KOKONAISTILANNE!X30","v":0},{"$f":"KOKONAISTILANNE!Z30","v":0},{"$f":"KOKONAISTILANNE!AB30","v":0},{"$f":"KOKONAISTILANNE!AD30","v":0},{"$f":"KOKONAISTILANNE!AF30","v":0},{"$f":"KOKONAISTILANNE!AH30","v":0},{"$f":"KOKONAISTILANNE!AJ30","v":0},{"$f":"KOKONAISTILANNE!AL30","v":0},{"$f":"KOKONAISTILANNE!AN30","v":0},{"$f":"KOKONAISTILANNE!AP30","v":0},{"$f":"KOKONAISTILANNE!AR30","v":0},{"$f":"KOKONAISTILANNE!AT30","v":0},0,0,0,0,0,0,0,0,0,0,0,0,0]
[22,"Ari Åman",{"$f":"KOKONAISTILANNE!C31","v":"Ari Åman"},{"$f":"KOKONAISTILANNE!H31","v":0},{"$f":"KOKONAISTILANNE!J31","v":0},{"$f":"KOKONAISTILANNE!L31","v":0},{"$f":"KOKONAISTILANNE!N31","v":0},{"$f":"KOKONAISTILANNE!P31","v":0},{"$f":"KOKONAISTILANNE!R31","v":0},{"$f":"KOKONAISTILANNE!T31","v":0},{"$f":"KOKONAISTILANNE!V31","v":0},{"$f":"KOKONAISTILANNE!X31","v":0},{"$f":"KOKONAISTILANNE!Z31","v":0},{"$f":"KOKONAISTILANNE!AB31","v":0},{"$f":"KOKONAISTILANNE!AD31","v":0},{"$f":"KOKONAISTILANNE!AF31","v":0},{"$f":"KOKONAISTILANNE!AH31","v":0},{"$f":"KOKONAISTILANNE!AJ31","v":0},{"$f":"KOKONAISTILANNE!AL31","v":0},{"$f":"KOKONAISTILANNE!AN31","v":0},{"$f":"KOKONAISTILANNE!AP31","v":0},{"$f":"KOKONAISTILANNE!AR31","v":0},{"$f":"KOKONAISTILANNE!AT31","v":0},0,0,0,0,0,0,0,0,0,0,0,0,0]

{"sheet":"Pelilappu","index":3,"n_rows":30,"n_cols":10,"rows_kept":30,"cut":false,"hidden":false,"merged":[]}
["VIIKKOKISA 16.9.2025"]
[]
["Nimi","Seura","Tasoitus","Pisteitä","12.paras kisa","1.kierros","2.kierros","Yhteensä","Pisteet","Sijoitus"]
[{"$f":"KOKONAISTILANNE!C10","v":"Petri Lönngren"},{"$f":"KOKONAISTILANNE!D10","v":"TuRGS"},{"$f":"KOKONAISTILANNE!F10","v":"+2"},{"$f":"KOKONAISTILANNE!AV10","v":385},{"$f":"Aputaulukko!AI2","v":23}]
[{"$f":"KOKONAISTILANNE!C11","v":"Oliver Mäntylä"},{"$f":"KOKONAISTILANNE!D11","v":"TuRGS"},{"$f":"KOKONAISTILANNE!F11","v":"+5"},{"$f":"KOKONAISTILANNE!AV11","v":374},{"$f":"Aputaulukko!AI3","v":26}]
[{"$f":"KOKONAISTILANNE!C12","v":"Juuso Tasku"},{"$f":"KOKONAISTILANNE!D12","v":"Manse"},{"$f":"KOKONAISTILANNE!F12","v":"+1"},{"$f":"KOKONAISTILANNE!AV12","v":358},{"$f":"Aputaulukko!AI4","v":25}]
[{"$f":"KOKONAISTILANNE!C13","v":"Miko Tuominen"},{"$f":"KOKONAISTILANNE!D13","v":"Manse"},{"$f":"KOKONAISTILANNE!F13","v":0},{"$f":"KOKONAISTILANNE!AV13","v":357},{"$f":"Aputaulukko!AI5","v":24}]
[{"$f":"KOKONAISTILANNE!C14","v":"Petri Tanninen"},{"$f":"KOKONAISTILANNE!D14","v":"TuRGS"},{"$f":"KOKONAISTILANNE!F14","v":8},{"$f":"KOKONAISTILANNE!AV14","v":356},{"$f":"Aputaulukko!AI6","v":22}]
[{"$f":"KOKONAISTILANNE!C15","v":"Pekka Mäntylä"},{"$f":"KOKONAISTILANNE!D15","v":"TuRGS"},{"$f":"KOKONAISTILANNE!F15","v":1},{"$f":"KOKONAISTILANNE!AV15","v":330},{"$f":"Aputaulukko!AI7","v":19}]
[{"$f":"KOKONAISTILANNE!C16","v":"Juhani Samuli"},{"$f":"KOKONAISTILANNE!D16","v":"TuRGS"},{"$f":"KOKONAISTILANNE!F16","v":9},{"$f":"KOKONAISTILANNE!AV16","v":329},{"$f":"Aputaulukko!AI8","v":22}]
[{"$f":"KOKONAISTILANNE!C17","v":"Patrik Eriksson"},{"$f":"KOKONAISTILANNE!D17","v":"TuRGS"},{"$f":"KOKONAISTILANNE!F17","v":2},{"$f":"KOKONAISTILANNE!AV17","v":327},{"$f":"Aputaulukko!AI9","v":24}]
[{"$f":"KOKONAISTILANNE!C18","v":"Jari Haapanen"},{"$f":"KOKONAISTILANNE!D18","v":"TuRGS"},10,{"$f":"KOKONAISTILANNE!AV18","v":305},{"$f":"Aputaulukko!AI10","v":18}]
[{"$f":"KOKONAISTILANNE!C19","v":"Kari Linnanketo"},{"$f":"KOKONAISTILANNE!D19","v":"TuRGS"},{"$f":"KOKONAISTILANNE!F19","v":7},{"$f":"KOKONAISTILANNE!AV19","v":271},{"$f":"Aputaulukko!AI11","v":12}]
[{"$f":"KOKONAISTILANNE!C20","v":"Tiina Tång"},{"$f":"KOKONAISTILANNE!D20","v":"TuRGS"},{"$f":"KOKONAISTILANNE!F20","v":11},{"$f":"KOKONAISTILANNE!AV20","v":241},{"$f":"Aputaulukko!AI12","v":8}]
[{"$f":"KOKONAISTILANNE!C21","v":"Aleksi Tång"},{"$f":"KOKONAISTILANNE!D21","v":"TuRGS"},{"$f":"KOKONAISTILANNE!F21","v":12},{"$f":"KOKONAISTILANNE!AV21","v":151},{"$f":"Aputaulukko!AI13","v":0}]
[{"$f":"KOKONAISTILANNE!C22","v":"Marianne Martiala"},{"$f":"KOKONAISTILANNE!D22","v":"TuRGS"},{"$f":"KOKONAISTILANNE!F22","v":20},{"$f":"KOKONAISTILANNE!AV22","v":103},{"$f":"Aputaulukko!AI14","v":0}]
[{"$f":"KOKONAISTILANNE!C23","v":"Marjo Tiainen"},{"$f":"KOKONAISTILANNE!D23","v":"TuRGS"},{"$f":"KOKONAISTILANNE!F23","v":16},{"$f":"KOKONAISTILANNE!AV23","v":51},{"$f":"Aputaulukko!AI15","v":0}]
[{"$f":"KOKONAISTILANNE!C24","v":"Kari Kulmala"},{"$f":"KOKONAISTILANNE!D24","v":"TuRGS"},{"$f":"KOKONAISTILANNE!F24","v":14},{"$f":"KOKONAISTILANNE!AV24","v":40},{"$f":"Aputaulukko!AI16","v":0}]
[{"$f":"KOKONAISTILANNE!C25","v":"Perttu Uotila"},{"$f":"KOKONAISTILANNE!D25","v":"SuoRa"},{"$f":"KOKONAISTILANNE!F25","v":7},{"$f":"KOKONAISTILANNE!AV25","v":32},{"$f":"Aputaulukko!AI17","v":0}]
[{"$f":"KOKONAISTILANNE!C26","v":"Axel Ekman"},{"$f":"KOKONAISTILANNE!D26","v":"Manse"},{"$f":"KOKONAISTILANNE!F26","v":8},{"$f":"KOKONAISTILANNE!AV26","v":17},{"$f":"Aputaulukko!AI18","v":0}]
[{"$f":"KOKONAISTILANNE!C27","v":"Kenth Smeds"},{"$f":"KOKONAISTILANNE!D27","v":"NMG"},{"$f":"KOKONAISTILANNE!F27","v":12},{"$f":"KOKONAISTILANNE!AV27","v":14},{"$f":"Aputaulukko!AI19","v":0}]
[{"$f":"KOKONAISTILANNE!C28","v":"Jori Pasanen"},{"$f":"KOKONAISTILANNE!D28","v":"TuRGS"},{"$f":"KOKONAISTILANNE!F28","v":4},{"$f":"KOKONAISTILANNE!AV28","v":0},{"$f":"Aputaulukko!AI20","v":0}]
[{"$f":"KOKONAISTILANNE!C29","v":"Koomikko"},{"$f":"KOKONAISTILANNE!D29","v":"TuRGS"},{"$f":"KOKONAISTILANNE!F29","v":16},{"$f":"KOKONAISTILANNE!AV29","v":0},{"$f":"Aputaulukko!AI21","v":0}]
[{"$f":"KOKONAISTILANNE!C30","v":"Tomi Aunio"},{"$f":"KOKONAISTILANNE!D30","v":"TuRGS"},{"$f":"KOKONAISTILANNE!F30","v":8},{"$f":"KOKONAISTILANNE!AV30","v":0},{"$f":"Aputaulukko!AI22","v":0}]
[{"$f":"KOKONAISTILANNE!C31","v":"Ari Åman"},{"$f":"KOKONAISTILANNE!D31","v":"TaRGS"},{"$f":"KOKONAISTILANNE!F31","v":8},{"$f":"KOKONAISTILANNE!AV31","v":0},{"$f":"Aputaulukko!AI23","v":0}]
[]
[]
[]
["PIIKKIKISA"]
["Nimi",null,"Rata",null,null,"Tulos"]